BEGIN:VCALENDAR
VERSION:2.0
PRODID:-//Volleyball - Club Altenburg e.V. - ECPv6.15.20//NONSGML v1.0//EN
CALSCALE:GREGORIAN
METHOD:PUBLISH
X-WR-CALNAME:Volleyball - Club Altenburg e.V.
X-ORIGINAL-URL:https://vc-altenburg.de
X-WR-CALDESC:Veranstaltungen für Volleyball - Club Altenburg e.V.
REFRESH-INTERVAL;VALUE=DURATION:PT1H
X-Robots-Tag:noindex
X-PUBLISHED-TTL:PT1H
BEGIN:VTIMEZONE
TZID:Europe/Berlin
BEGIN:DAYLIGHT
TZOFFSETFROM:+0100
TZOFFSETTO:+0200
TZNAME:CEST
DTSTART:20240331T010000
END:DAYLIGHT
BEGIN:STANDARD
TZOFFSETFROM:+0200
TZOFFSETTO:+0100
TZNAME:CET
DTSTART:20241027T010000
END:STANDARD
BEGIN:DAYLIGHT
TZOFFSETFROM:+0100
TZOFFSETTO:+0200
TZNAME:CEST
DTSTART:20250330T010000
END:DAYLIGHT
BEGIN:STANDARD
TZOFFSETFROM:+0200
TZOFFSETTO:+0100
TZNAME:CET
DTSTART:20251026T010000
END:STANDARD
BEGIN:DAYLIGHT
TZOFFSETFROM:+0100
TZOFFSETTO:+0200
TZNAME:CEST
DTSTART:20260329T010000
END:DAYLIGHT
BEGIN:STANDARD
TZOFFSETFROM:+0200
TZOFFSETTO:+0100
TZNAME:CET
DTSTART:20261025T010000
END:STANDARD
END:VTIMEZONE
BEGIN:VEVENT
DTSTART;TZID=Europe/Berlin:20250111T110000
DTEND;TZID=Europe/Berlin:20250111T170000
DTSTAMP:20260420T172034
CREATED:20241106T221429Z
LAST-MODIFIED:20241106T221429Z
UID:6096-1736593200-1736614800@vc-altenburg.de
SUMMARY:Volley Juniors Thüringen I - Herren I
DESCRIPTION:
URL:https://vc-altenburg.de/event/volley-juniors-thueringen-i-herren-i/
LOCATION:Drei-Feld-Halle „Am Südpark“\, Johann-Sebastian-Bach-Straße 7\, Erfurt\, Thüringen\, 99096\, Germany
CATEGORIES:Herren I,Spieltagsinfo
ATTACH;FMTTYPE=image/jpeg:https://vc-altenburg.de/wp-content/uploads/2024/10/Herren_I_2024_10_25.jpg
END:VEVENT
BEGIN:VEVENT
DTSTART;TZID=Europe/Berlin:20250112T090000
DTEND;TZID=Europe/Berlin:20250112T170000
DTSTAMP:20260420T172034
CREATED:20241107T073803Z
LAST-MODIFIED:20250108T144515Z
UID:6127-1736672400-1736701200@vc-altenburg.de
SUMMARY:Herren II - VSV Gößnitz 2 - Herren III (Wenzelhalle)
DESCRIPTION:
URL:https://vc-altenburg.de/event/herren-ii-vsv-goessnitz-2-herren-iii/
LOCATION:Kleine Nord 1\, Otto-Dix-Str. 44\, Altenburg\, Thüringen\, 04600\, Deutschland
CATEGORIES:Herren II,Herren III,Spieltagsinfo
ATTACH;FMTTYPE=image/jpeg:https://vc-altenburg.de/wp-content/uploads/2024/10/Herren-II_2024_10_27.jpg
END:VEVENT
BEGIN:VEVENT
DTSTART;TZID=Europe/Berlin:20250118T110000
DTEND;TZID=Europe/Berlin:20250118T170000
DTSTAMP:20260420T172034
CREATED:20241106T225110Z
LAST-MODIFIED:20241106T225255Z
UID:6114-1737198000-1737219600@vc-altenburg.de
SUMMARY:Damen III - Geraer Volleyballclub IV - 1. SV Pößneck (Wenzelhalle)
DESCRIPTION:
URL:https://vc-altenburg.de/event/damen-iii-geraer-volleyballclub-iv-1-sv-poessneck/
LOCATION:Wenzelhalle\, Otto-Dix-Straße\, Altenburg\, Thüringen\, 04600\, Deutschland
CATEGORIES:Damen III,Spieltagsinfo
ATTACH;FMTTYPE=image/jpeg:https://vc-altenburg.de/wp-content/uploads/2023/09/Damen_III_2023_24.jpg
END:VEVENT
BEGIN:VEVENT
DTSTART;TZID=Europe/Berlin:20250118T130000
DTEND;TZID=Europe/Berlin:20250118T170000
DTSTAMP:20260420T172034
CREATED:20241106T213715Z
LAST-MODIFIED:20241106T214020Z
UID:6074-1737205200-1737219600@vc-altenburg.de
SUMMARY:1. Sonneberger VC 2004 I - Damen I
DESCRIPTION:
URL:https://vc-altenburg.de/event/1-sonneberger-vc-2004-i-damen-i/
LOCATION:Lohau-Sporthalle\, Oberlinder Str. 10\, Sonneberg\, 96515
CATEGORIES:Damen I,Spieltagsinfo
ATTACH;FMTTYPE=image/jpeg:https://vc-altenburg.de/wp-content/uploads/2024/03/Damen-2_2024_03_16_2.jpg
END:VEVENT
BEGIN:VEVENT
DTSTART;TZID=Europe/Berlin:20250125T110000
DTEND;TZID=Europe/Berlin:20250125T170000
DTSTAMP:20260420T172034
CREATED:20241106T221833Z
LAST-MODIFIED:20241106T222248Z
UID:6099-1737802800-1737824400@vc-altenburg.de
SUMMARY:SVV Weimar e.V. II - 1. SV Pößneck e.V - Herren I
DESCRIPTION:
URL:https://vc-altenburg.de/event/svv-weimar-e-v-ii-1-sv-poessneck-e-v-herren-i/
LOCATION:SH Nordstraße\, Nordstr. 11\, Weimar\, 99427\, Deutschland
CATEGORIES:Herren I,Spieltagsinfo
ATTACH;FMTTYPE=image/jpeg:https://vc-altenburg.de/wp-content/uploads/2024/10/Herren_I_2024_10_25.jpg
END:VEVENT
BEGIN:VEVENT
DTSTART;TZID=Europe/Berlin:20250125T110000
DTEND;TZID=Europe/Berlin:20250125T170000
DTSTAMP:20260420T172034
CREATED:20241106T225802Z
LAST-MODIFIED:20241106T225935Z
UID:6117-1737802800-1737824400@vc-altenburg.de
SUMMARY:SV Thonhausen 1901 - Damen III
DESCRIPTION:
URL:https://vc-altenburg.de/event/sv-thonhausen-1901-damen-iii/
LOCATION:Ostthüringenhalle Schmölln\, Finkenweg 7\, Schmölln\, Thüringen\, 04626\, Deutschland
CATEGORIES:Damen III,Spieltagsinfo
ATTACH;FMTTYPE=image/jpeg:https://vc-altenburg.de/wp-content/uploads/2023/09/Damen_III_2023_24.jpg
END:VEVENT
BEGIN:VEVENT
DTSTART;TZID=Europe/Berlin:20250125T130000
DTEND;TZID=Europe/Berlin:20250125T170000
DTSTAMP:20260420T172034
CREATED:20241106T214205Z
LAST-MODIFIED:20241106T214205Z
UID:6078-1737810000-1737824400@vc-altenburg.de
SUMMARY:SV 1860 Oberweißbach - Damen I
DESCRIPTION:
URL:https://vc-altenburg.de/event/sv-1860-oberweissbach-damen-i/
LOCATION:RS Friedrich Fröbel\, Fröbelstr. 12\, Oberweißbach\, Thüringen\, 98744\, Germany
CATEGORIES:Damen I,Spieltagsinfo
ATTACH;FMTTYPE=image/jpeg:https://vc-altenburg.de/wp-content/uploads/2024/03/Damen-2_2024_03_16_2.jpg
END:VEVENT
BEGIN:VEVENT
DTSTART;TZID=Europe/Berlin:20250126T090000
DTEND;TZID=Europe/Berlin:20250126T120000
DTSTAMP:20260420T172034
CREATED:20241107T075434Z
LAST-MODIFIED:20250120T121317Z
UID:6136-1737882000-1737892800@vc-altenburg.de
SUMMARY:Herren III - LSV 1889 Altkirchen - TSV 1896 Wildenbörten e.V. (Wenzelhalle)
DESCRIPTION:
URL:https://vc-altenburg.de/event/herren-iii-lsv-1889-altkirchen-tsv-1896-wildenboerten-e-v-2/
LOCATION:Wenzelhalle\, Otto-Dix-Straße\, Altenburg\, Thüringen\, 04600\, Deutschland
CATEGORIES:Herren III,Spieltagsinfo
ATTACH;FMTTYPE=image/jpeg:https://vc-altenburg.de/wp-content/uploads/2024/10/Herren_III_2024_10_25.jpg
END:VEVENT
BEGIN:VEVENT
DTSTART;TZID=Europe/Berlin:20250126T090000
DTEND;TZID=Europe/Berlin:20250126T170000
DTSTAMP:20260420T172034
CREATED:20250120T122224Z
LAST-MODIFIED:20250120T122602Z
UID:6352-1737882000-1737910800@vc-altenburg.de
SUMMARY:U18w: 2. Spieltag Meisterschaft des KV Ost  (Wenzelhalle)
DESCRIPTION:VC Altenburg\nThimmendorfer Volleytiere\n1. SV Pößneck
URL:https://vc-altenburg.de/event/u18w-1-spieltag-meisterschaft-des-kv-ost-wenzelhalle/
LOCATION:Wenzelhalle\, Otto-Dix-Straße\, Altenburg\, Thüringen\, 04600\, Deutschland
CATEGORIES:Jugend,Spieltagsinfo
ATTACH;FMTTYPE=image/jpeg:https://vc-altenburg.de/wp-content/uploads/2023/09/u18w_2023_24.jpg
END:VEVENT
END:VCALENDAR