BEGIN:VCALENDAR
VERSION:2.0
PRODID:-//Volleyball - Club Altenburg e.V. - ECPv6.15.20//NONSGML v1.0//EN
CALSCALE:GREGORIAN
METHOD:PUBLISH
X-ORIGINAL-URL:https://vc-altenburg.de
X-WR-CALDESC:Veranstaltungen für Volleyball - Club Altenburg e.V.
REFRESH-INTERVAL;VALUE=DURATION:PT1H
X-Robots-Tag:noindex
X-PUBLISHED-TTL:PT1H
BEGIN:VTIMEZONE
TZID:Europe/Berlin
BEGIN:DAYLIGHT
TZOFFSETFROM:+0100
TZOFFSETTO:+0200
TZNAME:CEST
DTSTART:20230326T010000
END:DAYLIGHT
BEGIN:STANDARD
TZOFFSETFROM:+0200
TZOFFSETTO:+0100
TZNAME:CET
DTSTART:20231029T010000
END:STANDARD
BEGIN:DAYLIGHT
TZOFFSETFROM:+0100
TZOFFSETTO:+0200
TZNAME:CEST
DTSTART:20240331T010000
END:DAYLIGHT
BEGIN:STANDARD
TZOFFSETFROM:+0200
TZOFFSETTO:+0100
TZNAME:CET
DTSTART:20241027T010000
END:STANDARD
BEGIN:DAYLIGHT
TZOFFSETFROM:+0100
TZOFFSETTO:+0200
TZNAME:CEST
DTSTART:20250330T010000
END:DAYLIGHT
BEGIN:STANDARD
TZOFFSETFROM:+0200
TZOFFSETTO:+0100
TZNAME:CET
DTSTART:20251026T010000
END:STANDARD
END:VTIMEZONE
BEGIN:VEVENT
DTSTART;TZID=Europe/Berlin:20240901T090000
DTEND;TZID=Europe/Berlin:20240901T170000
DTSTAMP:20260421T003457
CREATED:20240814T212433Z
LAST-MODIFIED:20240814T212433Z
UID:5939-1725181200-1725210000@vc-altenburg.de
SUMMARY:U16 weiblich - Landesmeisterschaften (Wenzelhalle)
DESCRIPTION:
URL:https://vc-altenburg.de/event/u16-weiblich-landesmeisterschaften-wenzelhalle/
LOCATION:Wenzelhalle\, Otto-Dix-Straße\, Altenburg\, Thüringen\, 04600\, Deutschland
CATEGORIES:Jugend,Spieltagsinfo
END:VEVENT
BEGIN:VEVENT
DTSTART;TZID=Europe/Berlin:20240901T090000
DTEND;TZID=Europe/Berlin:20240901T170000
DTSTAMP:20260421T003457
CREATED:20240814T213548Z
LAST-MODIFIED:20240814T213548Z
UID:5945-1725181200-1725210000@vc-altenburg.de
SUMMARY:U16 männlich - Landesmeisterschaften (Gotha)
DESCRIPTION:
URL:https://vc-altenburg.de/event/u16-maennlich-landesmeisterschaften-gotha/
LOCATION:Ernestiner SH Gotha\, Am Tivoli 7-9\, Gotha\, Thüringen\, 99867\, Deutschland
CATEGORIES:Jugend,Spieltagsinfo
END:VEVENT
BEGIN:VEVENT
DTSTART;TZID=Europe/Berlin:20240921T100000
DTEND;TZID=Europe/Berlin:20240921T200000
DTSTAMP:20260421T003457
CREATED:20240915T160423Z
LAST-MODIFIED:20240915T160434Z
UID:5976-1726912800-1726948800@vc-altenburg.de
SUMMARY:Ligapokal 1. Runde - Herren (Pößneck)
DESCRIPTION:1.SV Pößneck\n1.VC Schloß Apolda\n1.VSV Jena IV\nGeraer VC II\nVC Altenburg I\nSV Rot Weiß Knau\nLSV 1889 Altkirchen
URL:https://vc-altenburg.de/event/ligapokal-1-runde-herren-poessneck/
LOCATION:Rosentalhalle Pößneck\, Wernburger Weg 66\, Pößneck\, 07381\, Deutschland
CATEGORIES:Herren I,Spieltagsinfo
ATTACH;FMTTYPE=image/jpeg:https://vc-altenburg.de/wp-content/uploads/2022/11/Herren_I_22-1.jpg
END:VEVENT
BEGIN:VEVENT
DTSTART;TZID=Europe/Berlin:20240921T110000
DTEND;TZID=Europe/Berlin:20240921T190000
DTSTAMP:20260421T003457
CREATED:20240814T202350Z
LAST-MODIFIED:20240814T203019Z
UID:5909-1726916400-1726945200@vc-altenburg.de
SUMMARY:Damen I - SVV Weimar e.V. I - VfB 91 Suhl II (Wenzelhalle)
DESCRIPTION:
URL:https://vc-altenburg.de/event/damen-i-svv-weimar-e-v-i-vfb-91-suhl-ii-wenzelhalle/
LOCATION:Wenzelhalle\, Otto-Dix-Straße\, Altenburg\, Thüringen\, 04600\, Deutschland
CATEGORIES:Damen I,Spieltagsinfo
ATTACH;FMTTYPE=image/jpeg:https://vc-altenburg.de/wp-content/uploads/2023/11/Damen_II_2023_11_02_02.jpg
END:VEVENT
END:VCALENDAR