BEGIN:VCALENDAR
VERSION:2.0
PRODID:-//Volleyball - Club Altenburg e.V. - ECPv6.15.20//NONSGML v1.0//EN
CALSCALE:GREGORIAN
METHOD:PUBLISH
X-WR-CALNAME:Volleyball - Club Altenburg e.V.
X-ORIGINAL-URL:https://vc-altenburg.de
X-WR-CALDESC:Veranstaltungen für Volleyball - Club Altenburg e.V.
REFRESH-INTERVAL;VALUE=DURATION:PT1H
X-Robots-Tag:noindex
X-PUBLISHED-TTL:PT1H
BEGIN:VTIMEZONE
TZID:Europe/Berlin
BEGIN:DAYLIGHT
TZOFFSETFROM:+0100
TZOFFSETTO:+0200
TZNAME:CEST
DTSTART:20240331T010000
END:DAYLIGHT
BEGIN:STANDARD
TZOFFSETFROM:+0200
TZOFFSETTO:+0100
TZNAME:CET
DTSTART:20241027T010000
END:STANDARD
BEGIN:DAYLIGHT
TZOFFSETFROM:+0100
TZOFFSETTO:+0200
TZNAME:CEST
DTSTART:20250330T010000
END:DAYLIGHT
BEGIN:STANDARD
TZOFFSETFROM:+0200
TZOFFSETTO:+0100
TZNAME:CET
DTSTART:20251026T010000
END:STANDARD
BEGIN:DAYLIGHT
TZOFFSETFROM:+0100
TZOFFSETTO:+0200
TZNAME:CEST
DTSTART:20260329T010000
END:DAYLIGHT
BEGIN:STANDARD
TZOFFSETFROM:+0200
TZOFFSETTO:+0100
TZNAME:CET
DTSTART:20261025T010000
END:STANDARD
END:VTIMEZONE
BEGIN:VEVENT
DTSTART;TZID=Europe/Berlin:20251122T110000
DTEND;TZID=Europe/Berlin:20251122T180000
DTSTAMP:20260421T103249
CREATED:20250901T203857Z
LAST-MODIFIED:20250901T203857Z
UID:6722-1763809200-1763834400@vc-altenburg.de
SUMMARY:Geraer VC IV - Damen II - Geraer VC V
DESCRIPTION:
URL:https://vc-altenburg.de/event/geraer-vc-iv-damen-ii-geraer-vc-v/
LOCATION:Gera Ostschule\, Karl-Liebknecht-Straße 56\, Gera\, Thüringen\, 07546\, Germany
CATEGORIES:Damen II,Spieltagsinfo
ATTACH;FMTTYPE=image/jpeg:https://vc-altenburg.de/wp-content/uploads/2024/12/Damen_III_2024_25.jpg
END:VEVENT
BEGIN:VEVENT
DTSTART;TZID=Europe/Berlin:20251122T110000
DTEND;TZID=Europe/Berlin:20251122T190000
DTSTAMP:20260421T103249
CREATED:20250807T094205Z
LAST-MODIFIED:20250807T094205Z
UID:6652-1763809200-1763838000@vc-altenburg.de
SUMMARY:Erfurter VC I - Herren I - SVC Nordhausen
DESCRIPTION:
URL:https://vc-altenburg.de/event/erfurter-vc-i-herren-i-svc-nordhausen/
LOCATION:Sportgymnasium Erfurt\, Mozartallee 4\, Erfurt\, Thüringen\, 99096\, Deutschland
CATEGORIES:Herren I,Spieltagsinfo
ATTACH;FMTTYPE=image/jpeg:https://vc-altenburg.de/wp-content/uploads/2024/10/Herren_I_2024_10_25.jpg
END:VEVENT
BEGIN:VEVENT
DTSTART;TZID=Europe/Berlin:20251122T130000
DTEND;TZID=Europe/Berlin:20251122T200000
DTSTAMP:20260421T103249
CREATED:20250807T091027Z
LAST-MODIFIED:20250807T091549Z
UID:6632-1763816400-1763841600@vc-altenburg.de
SUMMARY:Damen I - SGEe II - Geraer VC I (Wenzelhalle)
DESCRIPTION:
URL:https://vc-altenburg.de/event/damen-i-sgee-ii-geraer-vc-i-wenzelhalle/
LOCATION:Wenzelhalle\, Otto-Dix-Straße\, Altenburg\, Thüringen\, 04600\, Deutschland
CATEGORIES:Damen I,Spieltagsinfo
ATTACH;FMTTYPE=image/jpeg:https://vc-altenburg.de/wp-content/uploads/2024/11/Damen-I_2024_25.jpg
END:VEVENT
END:VCALENDAR