BEGIN:VCALENDAR
VERSION:2.0
PRODID:-//Volleyball - Club Altenburg e.V. - ECPv6.15.20//NONSGML v1.0//EN
CALSCALE:GREGORIAN
METHOD:PUBLISH
X-WR-CALNAME:Volleyball - Club Altenburg e.V.
X-ORIGINAL-URL:https://vc-altenburg.de
X-WR-CALDESC:Veranstaltungen für Volleyball - Club Altenburg e.V.
REFRESH-INTERVAL;VALUE=DURATION:PT1H
X-Robots-Tag:noindex
X-PUBLISHED-TTL:PT1H
BEGIN:VTIMEZONE
TZID:Europe/Berlin
BEGIN:DAYLIGHT
TZOFFSETFROM:+0100
TZOFFSETTO:+0200
TZNAME:CEST
DTSTART:20240331T010000
END:DAYLIGHT
BEGIN:STANDARD
TZOFFSETFROM:+0200
TZOFFSETTO:+0100
TZNAME:CET
DTSTART:20241027T010000
END:STANDARD
BEGIN:DAYLIGHT
TZOFFSETFROM:+0100
TZOFFSETTO:+0200
TZNAME:CEST
DTSTART:20250330T010000
END:DAYLIGHT
BEGIN:STANDARD
TZOFFSETFROM:+0200
TZOFFSETTO:+0100
TZNAME:CET
DTSTART:20251026T010000
END:STANDARD
BEGIN:DAYLIGHT
TZOFFSETFROM:+0100
TZOFFSETTO:+0200
TZNAME:CEST
DTSTART:20260329T010000
END:DAYLIGHT
BEGIN:STANDARD
TZOFFSETFROM:+0200
TZOFFSETTO:+0100
TZNAME:CET
DTSTART:20261025T010000
END:STANDARD
END:VTIMEZONE
BEGIN:VEVENT
DTSTART;TZID=Europe/Berlin:20250215T110000
DTEND;TZID=Europe/Berlin:20250215T170000
DTSTAMP:20260420T172101
CREATED:20241106T222522Z
LAST-MODIFIED:20241106T222522Z
UID:6101-1739617200-1739638800@vc-altenburg.de
SUMMARY:Geraer Volleyballclub II - VSV 90 Ebeleben - Herren I
DESCRIPTION:
URL:https://vc-altenburg.de/event/geraer-volleyballclub-ii-vsv-90-ebeleben-herren-i/
LOCATION:Gera Ostschule\, Karl-Liebknecht-Straße 56\, Gera\, Thüringen\, 07546\, Germany
CATEGORIES:Herren I,Spieltagsinfo
ATTACH;FMTTYPE=image/jpeg:https://vc-altenburg.de/wp-content/uploads/2024/10/Herren_I_2024_10_25.jpg
END:VEVENT
BEGIN:VEVENT
DTSTART;TZID=Europe/Berlin:20250215T130000
DTEND;TZID=Europe/Berlin:20250215T170000
DTSTAMP:20260420T172101
CREATED:20241106T214432Z
LAST-MODIFIED:20241106T214432Z
UID:6081-1739624400-1739638800@vc-altenburg.de
SUMMARY:1. Sonneberger VC 2004 I - Damen I
DESCRIPTION:
URL:https://vc-altenburg.de/event/1-sonneberger-vc-2004-i-damen-i-2/
LOCATION:Lohau-Sporthalle\, Oberlinder Str. 10\, Sonneberg\, 96515
CATEGORIES:Damen I,Spieltagsinfo
ATTACH;FMTTYPE=image/jpeg:https://vc-altenburg.de/wp-content/uploads/2024/03/Damen-2_2024_03_16_2.jpg
END:VEVENT
END:VCALENDAR