BEGIN:VCALENDAR
VERSION:2.0
PRODID:-//Volleyball - Club Altenburg e.V. - ECPv6.15.20//NONSGML v1.0//EN
CALSCALE:GREGORIAN
METHOD:PUBLISH
X-ORIGINAL-URL:https://vc-altenburg.de
X-WR-CALDESC:Veranstaltungen für Volleyball - Club Altenburg e.V.
REFRESH-INTERVAL;VALUE=DURATION:PT1H
X-Robots-Tag:noindex
X-PUBLISHED-TTL:PT1H
BEGIN:VTIMEZONE
TZID:Europe/Berlin
BEGIN:DAYLIGHT
TZOFFSETFROM:+0100
TZOFFSETTO:+0200
TZNAME:CEST
DTSTART:20240331T010000
END:DAYLIGHT
BEGIN:STANDARD
TZOFFSETFROM:+0200
TZOFFSETTO:+0100
TZNAME:CET
DTSTART:20241027T010000
END:STANDARD
BEGIN:DAYLIGHT
TZOFFSETFROM:+0100
TZOFFSETTO:+0200
TZNAME:CEST
DTSTART:20250330T010000
END:DAYLIGHT
BEGIN:STANDARD
TZOFFSETFROM:+0200
TZOFFSETTO:+0100
TZNAME:CET
DTSTART:20251026T010000
END:STANDARD
BEGIN:DAYLIGHT
TZOFFSETFROM:+0100
TZOFFSETTO:+0200
TZNAME:CEST
DTSTART:20260329T010000
END:DAYLIGHT
BEGIN:STANDARD
TZOFFSETFROM:+0200
TZOFFSETTO:+0100
TZNAME:CET
DTSTART:20261025T010000
END:STANDARD
END:VTIMEZONE
BEGIN:VEVENT
DTSTART;TZID=Europe/Berlin:20250118T110000
DTEND;TZID=Europe/Berlin:20250118T170000
DTSTAMP:20260420T190103
CREATED:20241106T225110Z
LAST-MODIFIED:20241106T225255Z
UID:6114-1737198000-1737219600@vc-altenburg.de
SUMMARY:Damen III - Geraer Volleyballclub IV - 1. SV Pößneck (Wenzelhalle)
DESCRIPTION:
URL:https://vc-altenburg.de/event/damen-iii-geraer-volleyballclub-iv-1-sv-poessneck/
LOCATION:Wenzelhalle\, Otto-Dix-Straße\, Altenburg\, Thüringen\, 04600\, Deutschland
CATEGORIES:Damen III,Spieltagsinfo
ATTACH;FMTTYPE=image/jpeg:https://vc-altenburg.de/wp-content/uploads/2023/09/Damen_III_2023_24.jpg
END:VEVENT
BEGIN:VEVENT
DTSTART;TZID=Europe/Berlin:20250118T130000
DTEND;TZID=Europe/Berlin:20250118T170000
DTSTAMP:20260420T190103
CREATED:20241106T213715Z
LAST-MODIFIED:20241106T214020Z
UID:6074-1737205200-1737219600@vc-altenburg.de
SUMMARY:1. Sonneberger VC 2004 I - Damen I
DESCRIPTION:
URL:https://vc-altenburg.de/event/1-sonneberger-vc-2004-i-damen-i/
LOCATION:Lohau-Sporthalle\, Oberlinder Str. 10\, Sonneberg\, 96515
CATEGORIES:Damen I,Spieltagsinfo
ATTACH;FMTTYPE=image/jpeg:https://vc-altenburg.de/wp-content/uploads/2024/03/Damen-2_2024_03_16_2.jpg
END:VEVENT
END:VCALENDAR