BEGIN:VCALENDAR
VERSION:2.0
PRODID:-//Volleyball - Club Altenburg e.V. - ECPv6.15.20//NONSGML v1.0//EN
CALSCALE:GREGORIAN
METHOD:PUBLISH
X-ORIGINAL-URL:https://vc-altenburg.de
X-WR-CALDESC:Veranstaltungen für Volleyball - Club Altenburg e.V.
REFRESH-INTERVAL;VALUE=DURATION:PT1H
X-Robots-Tag:noindex
X-PUBLISHED-TTL:PT1H
BEGIN:VTIMEZONE
TZID:Europe/Berlin
BEGIN:DAYLIGHT
TZOFFSETFROM:+0100
TZOFFSETTO:+0200
TZNAME:CEST
DTSTART:20230326T010000
END:DAYLIGHT
BEGIN:STANDARD
TZOFFSETFROM:+0200
TZOFFSETTO:+0100
TZNAME:CET
DTSTART:20231029T010000
END:STANDARD
BEGIN:DAYLIGHT
TZOFFSETFROM:+0100
TZOFFSETTO:+0200
TZNAME:CEST
DTSTART:20240331T010000
END:DAYLIGHT
BEGIN:STANDARD
TZOFFSETFROM:+0200
TZOFFSETTO:+0100
TZNAME:CET
DTSTART:20241027T010000
END:STANDARD
BEGIN:DAYLIGHT
TZOFFSETFROM:+0100
TZOFFSETTO:+0200
TZNAME:CEST
DTSTART:20250330T010000
END:DAYLIGHT
BEGIN:STANDARD
TZOFFSETFROM:+0200
TZOFFSETTO:+0100
TZNAME:CET
DTSTART:20251026T010000
END:STANDARD
END:VTIMEZONE
BEGIN:VEVENT
DTSTART;TZID=Europe/Berlin:20241215T100000
DTEND;TZID=Europe/Berlin:20241215T170000
DTSTAMP:20260420T203937
CREATED:20241107T081434Z
LAST-MODIFIED:20241107T082102Z
UID:6146-1734256800-1734282000@vc-altenburg.de
SUMMARY:U18m: Thüringer Landesmeisterschaft
DESCRIPTION:1. VSV Jena e.V.\nFSV Uder 1921 e.V.\nSV Schwarza U18 m\nSüdharzer Volleyballclub Nordhausen e.V\nVC Altenburg U18m\nVV70 Meiningen U18m\nVfB 91 Suhl e.V. – U18m\nVolleyball Club Gotha U18m
URL:https://vc-altenburg.de/event/u18m-thueringer-landesmeisterschaft/
LOCATION:Walter-Pesek-Halle\, Liebermannstraße\, Altenburg\, Thüringen\, 04600\, Deutschland
CATEGORIES:Jugend,Spieltagsinfo
ATTACH;FMTTYPE=image/jpeg:https://vc-altenburg.de/wp-content/uploads/2024/11/U18m_2024_10_28.jpg
END:VEVENT
END:VCALENDAR