BEGIN:VCALENDAR
VERSION:2.0
PRODID:-//Volleyball - Club Altenburg e.V. - ECPv6.15.20//NONSGML v1.0//EN
CALSCALE:GREGORIAN
METHOD:PUBLISH
X-ORIGINAL-URL:https://vc-altenburg.de
X-WR-CALDESC:Veranstaltungen für Volleyball - Club Altenburg e.V.
REFRESH-INTERVAL;VALUE=DURATION:PT1H
X-Robots-Tag:noindex
X-PUBLISHED-TTL:PT1H
BEGIN:VTIMEZONE
TZID:Europe/Berlin
BEGIN:DAYLIGHT
TZOFFSETFROM:+0100
TZOFFSETTO:+0200
TZNAME:CEST
DTSTART:20230326T010000
END:DAYLIGHT
BEGIN:STANDARD
TZOFFSETFROM:+0200
TZOFFSETTO:+0100
TZNAME:CET
DTSTART:20231029T010000
END:STANDARD
BEGIN:DAYLIGHT
TZOFFSETFROM:+0100
TZOFFSETTO:+0200
TZNAME:CEST
DTSTART:20240331T010000
END:DAYLIGHT
BEGIN:STANDARD
TZOFFSETFROM:+0200
TZOFFSETTO:+0100
TZNAME:CET
DTSTART:20241027T010000
END:STANDARD
BEGIN:DAYLIGHT
TZOFFSETFROM:+0100
TZOFFSETTO:+0200
TZNAME:CEST
DTSTART:20250330T010000
END:DAYLIGHT
BEGIN:STANDARD
TZOFFSETFROM:+0200
TZOFFSETTO:+0100
TZNAME:CET
DTSTART:20251026T010000
END:STANDARD
END:VTIMEZONE
BEGIN:VEVENT
DTSTART;TZID=Europe/Berlin:20241214T110000
DTEND;TZID=Europe/Berlin:20241214T170000
DTSTAMP:20260420T203929
CREATED:20241106T213459Z
LAST-MODIFIED:20241106T213459Z
UID:6071-1734174000-1734195600@vc-altenburg.de
SUMMARY:VG Bleicherode - Damen I
DESCRIPTION:
URL:https://vc-altenburg.de/event/vg-bleicherode-damen-i/
LOCATION:Georgenberg-SH\, Gartenstraße 78\, Bleicherode\, 95752\, Germany
CATEGORIES:Damen I,Spieltagsinfo
ATTACH;FMTTYPE=image/jpeg:https://vc-altenburg.de/wp-content/uploads/2024/03/Damen-2_2024_03_16_2.jpg
END:VEVENT
BEGIN:VEVENT
DTSTART;TZID=Europe/Berlin:20241214T110000
DTEND;TZID=Europe/Berlin:20241214T170000
DTSTAMP:20260420T203929
CREATED:20241106T224854Z
LAST-MODIFIED:20241106T224910Z
UID:6112-1734174000-1734195600@vc-altenburg.de
SUMMARY:Geraer Volleyballclub V -  Geraer Volleyballclub IV - Damen III
DESCRIPTION:
URL:https://vc-altenburg.de/event/geraer-volleyballclub-v-geraer-volleyballclub-iv-damen-iii/
LOCATION:Gera Ostschule\, Karl-Liebknecht-Straße 56\, Gera\, Thüringen\, 07546\, Germany
CATEGORIES:Damen III,Spieltagsinfo
ATTACH;FMTTYPE=image/jpeg:https://vc-altenburg.de/wp-content/uploads/2023/09/Damen_III_2023_24.jpg
END:VEVENT
END:VCALENDAR