BEGIN:VCALENDAR
VERSION:2.0
PRODID:-//Volleyball - Club Altenburg e.V. - ECPv6.15.20//NONSGML v1.0//EN
CALSCALE:GREGORIAN
METHOD:PUBLISH
X-ORIGINAL-URL:https://vc-altenburg.de
X-WR-CALDESC:Veranstaltungen für Volleyball - Club Altenburg e.V.
REFRESH-INTERVAL;VALUE=DURATION:PT1H
X-Robots-Tag:noindex
X-PUBLISHED-TTL:PT1H
BEGIN:VTIMEZONE
TZID:Europe/Berlin
BEGIN:DAYLIGHT
TZOFFSETFROM:+0100
TZOFFSETTO:+0200
TZNAME:CEST
DTSTART:20230326T010000
END:DAYLIGHT
BEGIN:STANDARD
TZOFFSETFROM:+0200
TZOFFSETTO:+0100
TZNAME:CET
DTSTART:20231029T010000
END:STANDARD
BEGIN:DAYLIGHT
TZOFFSETFROM:+0100
TZOFFSETTO:+0200
TZNAME:CEST
DTSTART:20240331T010000
END:DAYLIGHT
BEGIN:STANDARD
TZOFFSETFROM:+0200
TZOFFSETTO:+0100
TZNAME:CET
DTSTART:20241027T010000
END:STANDARD
BEGIN:DAYLIGHT
TZOFFSETFROM:+0100
TZOFFSETTO:+0200
TZNAME:CEST
DTSTART:20250330T010000
END:DAYLIGHT
BEGIN:STANDARD
TZOFFSETFROM:+0200
TZOFFSETTO:+0100
TZNAME:CET
DTSTART:20251026T010000
END:STANDARD
END:VTIMEZONE
BEGIN:VEVENT
DTSTART;TZID=Europe/Berlin:20241208T090000
DTEND;TZID=Europe/Berlin:20241208T120000
DTSTAMP:20260420T203744
CREATED:20241107T075216Z
LAST-MODIFIED:20241107T075216Z
UID:6134-1733648400-1733659200@vc-altenburg.de
SUMMARY:VSV Gößnitz 1 - SV Langenleuba-Niederhain 1949 e.V. - Herren III
DESCRIPTION:
URL:https://vc-altenburg.de/event/vsv-goessnitz-1-sv-langenleuba-niederhain-1949-e-v-herren-iii/
LOCATION:SH Gößnitz\, Waldenburger Str. 43\, Gößnitz\, Thüringen\, 04639\, Deutschland
CATEGORIES:Herren III,Spieltagsinfo
ATTACH;FMTTYPE=image/jpeg:https://vc-altenburg.de/wp-content/uploads/2024/10/Herren_III_2024_10_25.jpg
END:VEVENT
BEGIN:VEVENT
DTSTART;TZID=Europe/Berlin:20241208T100000
DTEND;TZID=Europe/Berlin:20241208T170000
DTSTAMP:20260420T203744
CREATED:20241107T080747Z
LAST-MODIFIED:20241107T080747Z
UID:6144-1733652000-1733677200@vc-altenburg.de
SUMMARY:U18m: Ostthüringenmeisterschaft
DESCRIPTION:U18m\nFSV Meuselwitz\n1.SV Pößneck
URL:https://vc-altenburg.de/event/u18m-ostthueringenmeisterschaft/
LOCATION:Walter-Pesek-Halle\, Liebermannstraße\, Altenburg\, Thüringen\, 04600\, Deutschland
CATEGORIES:Jugend,Spieltagsinfo
ATTACH;FMTTYPE=image/jpeg:https://vc-altenburg.de/wp-content/uploads/2024/11/U18m_2024_10_28.jpg
END:VEVENT
END:VCALENDAR