BEGIN:VCALENDAR
VERSION:2.0
PRODID:-//Volleyball - Club Altenburg e.V. - ECPv6.15.20//NONSGML v1.0//EN
CALSCALE:GREGORIAN
METHOD:PUBLISH
X-ORIGINAL-URL:https://vc-altenburg.de
X-WR-CALDESC:Veranstaltungen für Volleyball - Club Altenburg e.V.
REFRESH-INTERVAL;VALUE=DURATION:PT1H
X-Robots-Tag:noindex
X-PUBLISHED-TTL:PT1H
BEGIN:VTIMEZONE
TZID:Europe/Berlin
BEGIN:DAYLIGHT
TZOFFSETFROM:+0100
TZOFFSETTO:+0200
TZNAME:CEST
DTSTART:20230326T010000
END:DAYLIGHT
BEGIN:STANDARD
TZOFFSETFROM:+0200
TZOFFSETTO:+0100
TZNAME:CET
DTSTART:20231029T010000
END:STANDARD
BEGIN:DAYLIGHT
TZOFFSETFROM:+0100
TZOFFSETTO:+0200
TZNAME:CEST
DTSTART:20240331T010000
END:DAYLIGHT
BEGIN:STANDARD
TZOFFSETFROM:+0200
TZOFFSETTO:+0100
TZNAME:CET
DTSTART:20241027T010000
END:STANDARD
BEGIN:DAYLIGHT
TZOFFSETFROM:+0100
TZOFFSETTO:+0200
TZNAME:CEST
DTSTART:20250330T010000
END:DAYLIGHT
BEGIN:STANDARD
TZOFFSETFROM:+0200
TZOFFSETTO:+0100
TZNAME:CET
DTSTART:20251026T010000
END:STANDARD
END:VTIMEZONE
BEGIN:VEVENT
DTSTART;TZID=Europe/Berlin:20241207T110000
DTEND;TZID=Europe/Berlin:20241207T170000
DTSTAMP:20260420T203745
CREATED:20241106T212711Z
LAST-MODIFIED:20241106T212903Z
UID:6068-1733569200-1733590800@vc-altenburg.de
SUMMARY:SV TU-Ilmenau - Damen I
DESCRIPTION:
URL:https://vc-altenburg.de/event/sv-tu-ilmenau-damen-i/
LOCATION:SH Am Stollen\, Am Stollen 2\, Ilmenau\, Thüringen\, 98693\, Germany
CATEGORIES:Damen I,Spieltagsinfo
ATTACH;FMTTYPE=image/jpeg:https://vc-altenburg.de/wp-content/uploads/2024/03/Damen-2_2024_03_16_2.jpg
END:VEVENT
BEGIN:VEVENT
DTSTART;TZID=Europe/Berlin:20241207T110000
DTEND;TZID=Europe/Berlin:20241207T170000
DTSTAMP:20260420T203745
CREATED:20241106T224405Z
LAST-MODIFIED:20241106T224405Z
UID:6110-1733569200-1733590800@vc-altenburg.de
SUMMARY:1. VSV Jena IV - FSV Blau-Weiß 1862 Ziegenrück - Damen III
DESCRIPTION:
URL:https://vc-altenburg.de/event/1-vsv-jena-iv-fsv-blau-weiss-1862-ziegenrueck-damen-iii/
LOCATION:SH Sportforum Jena\, Wöllnitzer Straße 42\, Jena\, Thüringen\, 07749\, Deutschland
CATEGORIES:Damen III,Spieltagsinfo
ATTACH;FMTTYPE=image/jpeg:https://vc-altenburg.de/wp-content/uploads/2023/09/Damen_III_2023_24.jpg
END:VEVENT
BEGIN:VEVENT
DTSTART;TZID=Europe/Berlin:20241207T110000
DTEND;TZID=Europe/Berlin:20241207T180000
DTSTAMP:20260420T203745
CREATED:20241106T221034Z
LAST-MODIFIED:20241106T221034Z
UID:6094-1733569200-1733594400@vc-altenburg.de
SUMMARY:Herren I - SG ERFURT electronic I - 1. VSV Jena IV (Wenzelhalle)
DESCRIPTION:
URL:https://vc-altenburg.de/event/herren-i-sg-erfurt-electronic-i-1-vsv-jena-iv-wenzelhalle/
LOCATION:Wenzelhalle\, Otto-Dix-Straße\, Altenburg\, Thüringen\, 04600\, Deutschland
CATEGORIES:Herren I,Spieltagsinfo
ATTACH;FMTTYPE=image/jpeg:https://vc-altenburg.de/wp-content/uploads/2024/10/Herren_I_2024_10_25.jpg
END:VEVENT
END:VCALENDAR