BEGIN:VCALENDAR
VERSION:2.0
PRODID:-//Volleyball - Club Altenburg e.V. - ECPv6.15.20//NONSGML v1.0//EN
CALSCALE:GREGORIAN
METHOD:PUBLISH
X-ORIGINAL-URL:https://vc-altenburg.de
X-WR-CALDESC:Veranstaltungen für Volleyball - Club Altenburg e.V.
REFRESH-INTERVAL;VALUE=DURATION:PT1H
X-Robots-Tag:noindex
X-PUBLISHED-TTL:PT1H
BEGIN:VTIMEZONE
TZID:Europe/Berlin
BEGIN:DAYLIGHT
TZOFFSETFROM:+0100
TZOFFSETTO:+0200
TZNAME:CEST
DTSTART:20230326T010000
END:DAYLIGHT
BEGIN:STANDARD
TZOFFSETFROM:+0200
TZOFFSETTO:+0100
TZNAME:CET
DTSTART:20231029T010000
END:STANDARD
BEGIN:DAYLIGHT
TZOFFSETFROM:+0100
TZOFFSETTO:+0200
TZNAME:CEST
DTSTART:20240331T010000
END:DAYLIGHT
BEGIN:STANDARD
TZOFFSETFROM:+0200
TZOFFSETTO:+0100
TZNAME:CET
DTSTART:20241027T010000
END:STANDARD
BEGIN:DAYLIGHT
TZOFFSETFROM:+0100
TZOFFSETTO:+0200
TZNAME:CEST
DTSTART:20250330T010000
END:DAYLIGHT
BEGIN:STANDARD
TZOFFSETFROM:+0200
TZOFFSETTO:+0100
TZNAME:CET
DTSTART:20251026T010000
END:STANDARD
END:VTIMEZONE
BEGIN:VEVENT
DTSTART;TZID=Europe/Berlin:20241116T110000
DTEND;TZID=Europe/Berlin:20241116T170000
DTSTAMP:20260420T222342
CREATED:20240814T203803Z
LAST-MODIFIED:20240814T203803Z
UID:5916-1731754800-1731776400@vc-altenburg.de
SUMMARY:Damen I - SV 1860 Oberweißbach - SWE Volley-Team e.V. II (Wenzelhalle)
DESCRIPTION:
URL:https://vc-altenburg.de/event/damen-i-sv-1860-oberweissbach-swe-volley-team-e-v-ii-wenzelhalle/
LOCATION:Wenzelhalle\, Otto-Dix-Straße\, Altenburg\, Thüringen\, 04600\, Deutschland
CATEGORIES:Damen I,Spieltagsinfo
END:VEVENT
BEGIN:VEVENT
DTSTART;TZID=Europe/Berlin:20241116T110000
DTEND;TZID=Europe/Berlin:20241116T190000
DTSTAMP:20260420T222342
CREATED:20240814T205934Z
LAST-MODIFIED:20240814T205934Z
UID:5928-1731754800-1731783600@vc-altenburg.de
SUMMARY:1. VC Schloß Apolda II - Damen III - 1. VSV Jena III
DESCRIPTION:
URL:https://vc-altenburg.de/event/1-vc-schloss-apolda-ii-damen-iii-1-vsv-jena-iii/
LOCATION:Werner-Seelenbinder-Sporthalle\, Werner-Seelenbinder-Straße 6\, Apolda\, Thüringen\, 99510\, Deutschland
CATEGORIES:Damen III,Spieltagsinfo
ATTACH;FMTTYPE=image/jpeg:https://vc-altenburg.de/wp-content/uploads/2023/09/Damen_III_2023_24.jpg
END:VEVENT
END:VCALENDAR