BEGIN:VCALENDAR
VERSION:2.0
PRODID:-//Volleyball - Club Altenburg e.V. - ECPv6.15.20//NONSGML v1.0//EN
CALSCALE:GREGORIAN
METHOD:PUBLISH
X-WR-CALNAME:Volleyball - Club Altenburg e.V.
X-ORIGINAL-URL:https://vc-altenburg.de
X-WR-CALDESC:Veranstaltungen für Volleyball - Club Altenburg e.V.
REFRESH-INTERVAL;VALUE=DURATION:PT1H
X-Robots-Tag:noindex
X-PUBLISHED-TTL:PT1H
BEGIN:VTIMEZONE
TZID:Europe/Berlin
BEGIN:DAYLIGHT
TZOFFSETFROM:+0100
TZOFFSETTO:+0200
TZNAME:CEST
DTSTART:20230326T010000
END:DAYLIGHT
BEGIN:STANDARD
TZOFFSETFROM:+0200
TZOFFSETTO:+0100
TZNAME:CET
DTSTART:20231029T010000
END:STANDARD
BEGIN:DAYLIGHT
TZOFFSETFROM:+0100
TZOFFSETTO:+0200
TZNAME:CEST
DTSTART:20240331T010000
END:DAYLIGHT
BEGIN:STANDARD
TZOFFSETFROM:+0200
TZOFFSETTO:+0100
TZNAME:CET
DTSTART:20241027T010000
END:STANDARD
BEGIN:DAYLIGHT
TZOFFSETFROM:+0100
TZOFFSETTO:+0200
TZNAME:CEST
DTSTART:20250330T010000
END:DAYLIGHT
BEGIN:STANDARD
TZOFFSETFROM:+0200
TZOFFSETTO:+0100
TZNAME:CET
DTSTART:20251026T010000
END:STANDARD
END:VTIMEZONE
BEGIN:VEVENT
DTSTART;TZID=Europe/Berlin:20240530T180000
DTEND;TZID=Europe/Berlin:20240530T200000
DTSTAMP:20260423T124215
CREATED:20240414T193917Z
LAST-MODIFIED:20240414T193930Z
UID:5854-1717092000-1717099200@vc-altenburg.de
SUMMARY:Jahreshauptversammlung 2024!
DESCRIPTION:Einladung zur Jahreshauptversammlung 2024 am Donnerstag\, den 30.05.2024 um 18.00 Uhr imGolden Pflug. (Raum im Obergeschoss) \nHierzu laden wir alle Vereinsmitglieder recht herzlich ein. \nTagesordnung: \n– Begrüßung\n– Bericht des Vorstandes\n– Bericht des Kassenwartes\n– Bericht der Kassenprüfer\n– Diskussion\n– Entlastung der Kassenprüfer\n– Wahl neuer Kassenprüfer\n– Schlusswort \n  \nDer Vorstand
URL:https://vc-altenburg.de/event/jahreshauptversammlung-2024/
LOCATION:Goldener Pflug\, Beim Goldenen Pflug 4\, Altenburg\, Thüringen\, 04600\, Deutschland
CATEGORIES:Allgemeines
ATTACH;FMTTYPE=image/png:https://vc-altenburg.de/wp-content/uploads/2023/07/Logo-Rand1.png
END:VEVENT
END:VCALENDAR